BEGIN:VCALENDAR
VERSION:2.0
PRODID:-//147.100.242.14//NONSGML kigkonsult.se iCalcreator 2.41.92//
CALSCALE:GREGORIAN
UID:33343635-3638-4264-a463-303462363838
X-WR-TIMEZONE:Europe/Paris
BEGIN:VTIMEZONE
TZID:Europe/Paris
TZUNTIL:20260329T010000Z
BEGIN:STANDARD
TZNAME:CET
DTSTART:20231029T030000
TZOFFSETFROM:+0200
TZOFFSETTO:+0100
RDATE:20241027T030000
RDATE:20251026T030000
END:STANDARD
BEGIN:DAYLIGHT
TZNAME:CEST
DTSTART:20240331T020000
TZOFFSETFROM:+0100
TZOFFSETTO:+0200
RDATE:20250330T020000
END:DAYLIGHT
END:VTIMEZONE
BEGIN:VEVENT
UID:30633265-6466-4234-a434-313132393438
DTSTAMP:20260423T020911Z
DTSTART:20240701T063000Z
DTEND:20240712T150000Z
LOCATION:Montpellier
SUMMARY:MISTRAL
URL:https://mistral.workshop.inrae.fr
END:VEVENT
END:VCALENDAR
